BEGIN:VCALENDAR
VERSION:2.0
CALSCALE:GREGORIAN
PRODID:-//Diputació de Barcelona//DibaCMS//EN
BEGIN:VEVENT
UID:1450
DTSTAMP:20260421T122144
DTSTART:20230713T103000
DTEND:20230713T113000
SUMMARY:Hora del conte
LOCATION:Carretera de Solsona a Lleida 08614 L Espunyola
METHOD:PUBLISH
X-WR-CALNAME:espunyola@espunyola.cat
X-WR-TIMEZONE:Europe/Madrid
DESCRIPTION:
URI:https://www.espunyola.cat/actualitat/agenda/hora-del-conte.html
CLASS:PUBLIC
END:VEVENT
END:VCALENDAR
